BEGIN:VCALENDAR
VERSION:2.0
PRODID:-//NADI Bukit Bunga - ECPv6.15.13.1//NONSGML v1.0//EN
CALSCALE:GREGORIAN
METHOD:PUBLISH
X-WR-CALNAME:NADI Bukit Bunga
X-ORIGINAL-URL:https://bukitbunga.nadi.my
X-WR-CALDESC:Events for NADI Bukit Bunga
REFRESH-INTERVAL;VALUE=DURATION:PT1H
X-Robots-Tag:noindex
X-PUBLISHED-TTL:PT1H
BEGIN:VTIMEZONE
TZID:Asia/Kuala_Lumpur
BEGIN:STANDARD
TZOFFSETFROM:+0800
TZOFFSETTO:+0800
TZNAME:+08
DTSTART:20240101T000000
END:STANDARD
END:VTIMEZONE
BEGIN:VEVENT
DTSTART;VALUE=DATE:20250806
DTEND;VALUE=DATE:20250915
DTSTAMP:20260426T042023
CREATED:20250724T092152Z
LAST-MODIFIED:20250724T092152Z
UID:3812-1754438400-1757894399@bukitbunga.nadi.my
SUMMARY:WEBINAR COHORT 4 - PEMASARAN & OPERASI
DESCRIPTION:
URL:https://bukitbunga.nadi.my/event/webinar-cohort-4-pemasaran-operasi/
LOCATION:NADI BANDAR BARU BUKIT BUNGA
END:VEVENT
BEGIN:VEVENT
DTSTART;TZID=Asia/Kuala_Lumpur:20250906T090000
DTEND;TZID=Asia/Kuala_Lumpur:20250906T180000
DTSTAMP:20260426T042023
CREATED:20250825T100029Z
LAST-MODIFIED:20250825T100029Z
UID:3877-1757149200-1757181600@bukitbunga.nadi.my
SUMMARY:COHORT 5 KIDVENTURE - WEBINAR PEMASARAN
DESCRIPTION:
URL:https://bukitbunga.nadi.my/event/cohort-5-kidventure-webinar-pemasaran/
LOCATION:NADI BANDAR BARU BUKIT BUNGA
END:VEVENT
BEGIN:VEVENT
DTSTART;TZID=Asia/Kuala_Lumpur:20250906T100000
DTEND;TZID=Asia/Kuala_Lumpur:20250906T163000
DTSTAMP:20260426T042023
CREATED:20250903T034257Z
LAST-MODIFIED:20250903T034257Z
UID:3932-1757152800-1757176200@bukitbunga.nadi.my
SUMMARY:PROGRAM KHAS SEMPENA HARI MERDEKA & HARI MALAYSIA
DESCRIPTION:
URL:https://bukitbunga.nadi.my/event/program-khas-sempena-hari-merdeka-hari-malaysia/
LOCATION:NADI BANDAR BARU BUKIT BUNGA
END:VEVENT
END:VCALENDAR